BEGIN:VCALENDAR
VERSION:2.0
PRODID:-//ChamberMaster//Event Calendar 2.0//EN
METHOD:PUBLISH
X-PUBLISHED-TTL:P3D
REFRESH-INTERVAL:P3D
CALSCALE:GREGORIAN
BEGIN:VEVENT
DTSTART:20240815T220000Z
DTEND:20240816T000000Z
X-MICROSOFT-CDO-ALLDAYEVENT:FALSE
SUMMARY:Welcome Western Title to the Community
DESCRIPTION:Western Title invites you to come meet our team. We are excited to be opening an office in Cottage Grove in the coming months.
X-ALT-DESC;FMTTYPE=text/html:Western Title invites you to come meet our team. We are excited to be opening an office in Cottage Grove in the coming months.
LOCATION:Coast Fork Brewing - Brewstation & Feed 106 S 6th St. Cottage Grove
UID:e.49.35696
SEQUENCE:3
DTSTAMP:20260425T031852Z
URL:https://business.cgchamber.com/events/details/welcome-western-title-to-the-community-35696
END:VEVENT

END:VCALENDAR
