BEGIN:VCALENDAR
VERSION:2.0
PRODID:-//ChamberMaster//Event Calendar 2.0//EN
METHOD:PUBLISH
X-PUBLISHED-TTL:P3D
REFRESH-INTERVAL:P3D
CALSCALE:GREGORIAN
BEGIN:VEVENT
DTSTART:20250119T020000Z
DTEND:20250119T070000Z
X-MICROSOFT-CDO-ALLDAYEVENT:FALSE
SUMMARY:UFC 311
DESCRIPTION:No Cover charge before 6. $5 cover afterwards.
X-ALT-DESC;FMTTYPE=text/html:No Cover charge before 6. $5 cover afterwards.
LOCATION:Bohemian Tavern 48 N 9th St
UID:e.49.35954
SEQUENCE:3
DTSTAMP:20260423T053257Z
URL:https://business.cgchamber.com/events/details/ufc-311-35954
END:VEVENT

END:VCALENDAR
