BEGIN:VCALENDAR
VERSION:2.0
PRODID:-//ChamberMaster//Event Calendar 2.0//EN
METHOD:PUBLISH
X-PUBLISHED-TTL:P3D
REFRESH-INTERVAL:P3D
CALSCALE:GREGORIAN
BEGIN:VEVENT
DTSTART:20241117T010000Z
DTEND:20241117T070000Z
X-MICROSOFT-CDO-ALLDAYEVENT:FALSE
SUMMARY:UFC 309 Jon Jones vs Stipe Miocic
DESCRIPTION:UFC 309: Jones vs. Miocic is an upcoming mixed martial arts event produced by the Ultimate Fighting Championship that will take place on November 16\, 2024\, at Madison Square Garden in New York City\, New York\, United States. Prelims start at 5pm\, Main cards start at 7pm.
X-ALT-DESC;FMTTYPE=text/html:UFC 309: Jones vs. Miocic is an upcoming mixed martial arts event produced by the Ultimate Fighting Championship that will take place on November 16\, 2024\, at Madison Square Garden in New York City\, New York\, United States. Prelims start at 5pm\, Main cards start at 7pm.
LOCATION:Bohemian Tavern 48 N 9th St\, Cottage Grove OR
UID:e.49.35837
SEQUENCE:3
DTSTAMP:20260425T015212Z
URL:https://business.cgchamber.com/events/details/ufc-309-jon-jones-vs-stipe-miocic-35837
END:VEVENT

END:VCALENDAR
