BEGIN:VCALENDAR
VERSION:2.0
PRODID:-//ChamberMaster//Event Calendar 2.0//EN
METHOD:PUBLISH
X-PUBLISHED-TTL:P3D
REFRESH-INTERVAL:P3D
CALSCALE:GREGORIAN
BEGIN:VEVENT
DTSTART;VALUE=DATE:20180608
DTEND;VALUE=DATE:20180609
TRANSP:TRANSPARENT
X-MICROSOFT-CDO-ALLDAYEVENT:TRUE
SUMMARY:The Crucible
DESCRIPTION:Arthur Miller's powerful play\, written in response to the McCarthy hearings of the 1950s\, is a partially fictionalized dramatization of the 1692 Salem witch trials.
X-ALT-DESC;FMTTYPE=text/html:<span style="color:rgb(0\, 0\, 0)">Arthur Miller&rsquo\;s powerful play</span><em>\,&nbsp\;</em><span style="color:rgb(0\, 0\, 0)">written in response to the McCarthy hearings of the 1950s</span><em>\,</em><span style="color:rgb(0\, 0\, 0)">&nbsp\;is a partially fictionalized dramatization of the 1692 Salem witch trials.</span><br />\n<br />\n<br />\n<br />\n&nbsp\;
LOCATION:Cottage Theatre 700 Village Drive Cottage Grove\, OR 97424
UID:e.49.22455
SEQUENCE:3
DTSTAMP:20260421T002226Z
URL:https://business.cgchamber.com/events/details/the-crucible-22455
END:VEVENT

END:VCALENDAR
