BEGIN:VCALENDAR
VERSION:2.0
PRODID:-//ChamberMaster//Event Calendar 2.0//EN
METHOD:PUBLISH
X-PUBLISHED-TTL:P3D
REFRESH-INTERVAL:P3D
CALSCALE:GREGORIAN
BEGIN:VEVENT
DTSTART:20171119T210000Z
DTEND:20171120T000000Z
X-MICROSOFT-CDO-ALLDAYEVENT:FALSE
SUMMARY:The Camera Counter
DESCRIPTION:The Cottage Grove Museum has a new exhibit\, The Camera Counter. Many cameras from 1900 - 1990 are on display. Many of these cameras were owned by long time local pharmacist Paul McCoy. Come in and you might see your first camera there.
X-ALT-DESC;FMTTYPE=text/html:The Cottage Grove Museum has a new exhibit\, The Camera Counter. Many cameras from 1900 - 1990 are on display. Many of these cameras were owned by long time local pharmacist Paul McCoy. Come in and you might see your first camera there.
LOCATION:Corner of Birch and H.
UID:e.49.21578
SEQUENCE:3
DTSTAMP:20260425T144312Z
URL:https://business.cgchamber.com/events/details/the-camera-counter-11-19-2017-21578
END:VEVENT

END:VCALENDAR
