BEGIN:VCALENDAR
VERSION:2.0
PRODID:-//ChamberMaster//Event Calendar 2.0//EN
METHOD:PUBLISH
X-PUBLISHED-TTL:P3D
REFRESH-INTERVAL:P3D
CALSCALE:GREGORIAN
BEGIN:VEVENT
DTSTART;VALUE=DATE:20180616
DTEND;VALUE=DATE:20180617
TRANSP:TRANSPARENT
X-MICROSOFT-CDO-ALLDAYEVENT:TRUE
SUMMARY:Swinging Bridge Fundraiser
DESCRIPTION:Swinging Bridge Fundraiser - A vendor shopping event featuring services & products offered by local businesswomen and community members. With live music by the Rockin' Reveleers and DJ Diva Kat\, Food trucks\, Street Party\, Fun & Fellowship\, Raffles for gifts & a 50/50 Cash Prize Raffle\, Bake Sale\, and the Swinging Rope Monkey Bridge for the Kids courtesy of the Friends of Cottage Grove Swinging Bridge.
X-ALT-DESC;FMTTYPE=text/html:Swinging Bridge Fundraiser - A vendor shopping event featuring services &amp\; products offered by local businesswomen and community members. With live music by the Rockin&#39\; Reveleers and DJ Diva Kat\, Food trucks\, Street Party\, Fun &amp\; Fellowship\, Raffles for gifts &amp\; a 50/50 Cash Prize Raffle\, Bake Sale\, and the Swinging Rope Monkey Bridge for the Kids courtesy of the Friends of Cottage Grove Swinging Bridge.
LOCATION:Cottage Grove Armory 628 E. Washington
UID:e.49.23290
SEQUENCE:3
DTSTAMP:20260421T024632Z
URL:https://business.cgchamber.com/events/details/swinging-bridge-fundraiser-23290
END:VEVENT

END:VCALENDAR
