BEGIN:VCALENDAR
VERSION:2.0
PRODID:-//ChamberMaster//Event Calendar 2.0//EN
METHOD:PUBLISH
X-PUBLISHED-TTL:P3D
REFRESH-INTERVAL:P3D
CALSCALE:GREGORIAN
BEGIN:VEVENT
DTSTART:20180510T170000Z
DTEND:20180510T190000Z
X-MICROSOFT-CDO-ALLDAYEVENT:FALSE
SUMMARY:Startup Coffee Meetup
DESCRIPTION:On the Second Thursday of every month\, RAIN Eugene invites you to the Backstage Bakery in Cottage Grove to talk about startups\, innovation\, and how we can better support the local entrepreneurial eco-system. If you have an idea and are not sure where to go next\, show up and get support overcoming the obstacles to establishing and scaling your business.
X-ALT-DESC;FMTTYPE=text/html:On the Second Thursday of every month\, RAIN Eugene invites you to the Backstage Bakery in Cottage Grove to talk about startups\, innovation\, and how we can better support the local entrepreneurial eco-system. If you have an idea and are not sure where to go next\, show up and get support overcoming the obstacles to establishing and scaling your business.
LOCATION:Backstage Bakery and Cafe 25 S 7th St Cottage Grove Oregon
UID:e.49.22399
SEQUENCE:3
DTSTAMP:20260422T023122Z
URL:https://business.cgchamber.com/events/details/startup-coffee-meetup-22399
END:VEVENT

END:VCALENDAR
