BEGIN:VCALENDAR
VERSION:2.0
PRODID:-//ChamberMaster//Event Calendar 2.0//EN
METHOD:PUBLISH
X-PUBLISHED-TTL:P3D
REFRESH-INTERVAL:P3D
CALSCALE:GREGORIAN
BEGIN:VEVENT
DTSTART:20180422T010000Z
DTEND:20180422T050000Z
X-MICROSOFT-CDO-ALLDAYEVENT:FALSE
SUMMARY:Spring Fest
DESCRIPTION:Windy Ridge is providing entertainment for this fundraiser. Doors open at 6pm and dinner/beer/wine can be purchased. 7pm the music starts. An oral auction will be held between music sets and there will be a silent auction\, photo booth and raffle going throughout the evening as well. All proceeds go to fund the Art and Music programs at London School
X-ALT-DESC;FMTTYPE=text/html:Windy Ridge is providing entertainment for this fundraiser. Doors open at 6pm and dinner/beer/wine can be purchased. 7pm the music starts. An oral auction will be held between music sets and there will be a silent auction\, photo booth and raffle going throughout the evening as well. All proceeds go to fund the Art and Music programs at London School
LOCATION:Cottage Grove Armory 628 E Washington Ave Cottage Grove\, OR 97424
UID:e.49.22372
SEQUENCE:3
DTSTAMP:20260422T215131Z
URL:https://business.cgchamber.com/events/details/spring-fest-22372
END:VEVENT

END:VCALENDAR
