BEGIN:VCALENDAR
VERSION:2.0
PRODID:-//ChamberMaster//Event Calendar 2.0//EN
METHOD:PUBLISH
X-PUBLISHED-TTL:P3D
REFRESH-INTERVAL:P3D
CALSCALE:GREGORIAN
BEGIN:VEVENT
DTSTART:20180414T200000Z
DTEND:20180414T213000Z
X-MICROSOFT-CDO-ALLDAYEVENT:FALSE
SUMMARY:Spring Cleaning with Essential Oils
DESCRIPTION:Join us as we share ways to make your home toxin free by using Young Living Essential Oils. Learn how to ditch & switch products in your everyday life. We will discuss the benefits of using toxin-free products in your home. We will demonstrate a couple of different spring cleaning DIY products (with samples to take home)
X-ALT-DESC;FMTTYPE=text/html:Join us as we share ways to make your home toxin free by using Young Living Essential Oils. Learn how to ditch &amp\; switch products in your everyday life. We will discuss the benefits of using toxin-free products in your home. We will demonstrate a couple of different spring cleaning DIY products (with samples to take home)
LOCATION:Health Revolution Chiropractic 1498 E Main Street Suite 104 Cottage Grove
UID:e.49.22379
SEQUENCE:3
DTSTAMP:20260422T022936Z
URL:https://business.cgchamber.com/events/details/spring-cleaning-with-essential-oils-22379
END:VEVENT

END:VCALENDAR
