BEGIN:VCALENDAR
VERSION:2.0
PRODID:-//ChamberMaster//Event Calendar 2.0//EN
METHOD:PUBLISH
X-PUBLISHED-TTL:P3D
REFRESH-INTERVAL:P3D
CALSCALE:GREGORIAN
BEGIN:VEVENT
DTSTART:20260123T033000Z
DTEND:20260123T053000Z
X-MICROSOFT-CDO-ALLDAYEVENT:FALSE
SUMMARY:Spencer Kilpatrick & The Sand Gators
DESCRIPTION:Spencer Kilpatrick & The Sand Gators 7:30   9:30pm ($10) "Oh boy\, where to start? Hailing from somewhere between the sun-baked desert and the hum of I-80\, Spencer Kilpatrick & The Sand Gators are a raw\, unflinching manifesto of musical indecision. From pounding R&B to psychedelic meanderings to introspective Americana\, The Gators have enough tricks to keep a crowd on their tip toes." - Bud Havel INSTAGRAM: https://www.instagram.com/thesandgators/?hl=en FACEBOOK: https://www.facebook.com/spencer.kilpatrick.1/ SPOTIFY: https://open.spotify.com/artist/0kOKPfDye0JCmGMeuzrVCh BANDCAMP: https://spencerkilpatrick.bandcamp.com/
X-ALT-DESC;FMTTYPE=text/html:Spencer Kilpatrick &amp\; The Sand Gators 7:30 &ndash\; 9:30pm ($10) &quot\;Oh boy\, where to start? Hailing from somewhere between the sun-baked desert and the hum of I-80\, Spencer Kilpatrick &amp\; The Sand Gators are a raw\, unflinching manifesto of musical indecision. From pounding R&amp\;B to psychedelic meanderings to introspective Americana\, The Gators have enough tricks to keep a crowd on their tip toes.&quot\; - Bud Havel INSTAGRAM: https://www.instagram.com/thesandgators/?hl=en FACEBOOK: https://www.facebook.com/spencer.kilpatrick.1/ SPOTIFY: https://open.spotify.com/artist/0kOKPfDye0JCmGMeuzrVCh BANDCAMP: https://spencerkilpatrick.bandcamp.com/
LOCATION:The Axe and Fiddle 657 E Main St Cottage Grove\, OR 97424
UID:e.49.36414
SEQUENCE:3
DTSTAMP:20260424T062426Z
URL:https://business.cgchamber.com/events/details/spencer-kilpatrick-the-sand-gators-36414
END:VEVENT

END:VCALENDAR
