BEGIN:VCALENDAR
VERSION:2.0
PRODID:-//ChamberMaster//Event Calendar 2.0//EN
METHOD:PUBLISH
X-PUBLISHED-TTL:P3D
REFRESH-INTERVAL:P3D
CALSCALE:GREGORIAN
BEGIN:VEVENT
DTSTART:20180114T010000Z
DTEND:20180114T040000Z
X-MICROSOFT-CDO-ALLDAYEVENT:FALSE
SUMMARY:Spaghetti Feed
DESCRIPTION:The Spaghetti Feed is a fundraiser for the homeless all proceeds go to buying cloths\, hats\, gloves etc. and will be handed out handed out in the surrounding area. We will be serving spaghetti\, bread\, salad and dessert Gluten free and vegetarian options are available. There will also be a silent auction going on and live music.
X-ALT-DESC;FMTTYPE=text/html:The Spaghetti Feed is a fundraiser for the homeless all proceeds go to buying cloths\, hats\, gloves etc. and will be handed out handed out in the surrounding area. We will be serving spaghetti\, bread\, salad and dessert Gluten free and vegetarian options are available. There will also be a silent auction going on and live music.
LOCATION:Elks Lodge
UID:e.49.21714
SEQUENCE:3
DTSTAMP:20260424T185813Z
URL:https://business.cgchamber.com/events/details/spaghetti-feed-21714
END:VEVENT

END:VCALENDAR
