BEGIN:VCALENDAR
VERSION:2.0
PRODID:-//ChamberMaster//Event Calendar 2.0//EN
METHOD:PUBLISH
X-PUBLISHED-TTL:P3D
REFRESH-INTERVAL:P3D
CALSCALE:GREGORIAN
BEGIN:VEVENT
DTSTART;VALUE=DATE:20190418
DTEND;VALUE=DATE:20190419
TRANSP:TRANSPARENT
X-MICROSOFT-CDO-ALLDAYEVENT:TRUE
SUMMARY:South Lane Womens Network
DESCRIPTION:The SLWN is dedicated to empowering female business owner in our small communities. We make friends and help cheer each other on. This meeting topic is self care. Our guest speakers will be Wendy Shugar and Marcia Hudgel talking about yoga and meditation and teaching us some yoga poses
X-ALT-DESC;FMTTYPE=text/html:The SLWN is dedicated to empowering female business owner in our small communities. We make friends and help cheer each other on. This meeting topic is self care. Our guest speakers will be Wendy Shugar and Marcia Hudgel talking about yoga and meditation and teaching us some yoga poses
LOCATION:VFW post 3473 3160 Hillside dr Cottage Grove
UID:e.49.27665
SEQUENCE:3
DTSTAMP:20260421T075220Z
URL:https://business.cgchamber.com/events/details/south-lane-womens-network-27665
END:VEVENT

END:VCALENDAR
