BEGIN:VCALENDAR
VERSION:2.0
PRODID:-//ChamberMaster//Event Calendar 2.0//EN
METHOD:PUBLISH
X-PUBLISHED-TTL:P3D
REFRESH-INTERVAL:P3D
CALSCALE:GREGORIAN
BEGIN:VEVENT
DTSTART:20201105T180000Z
DTEND:20201108T000000Z
X-MICROSOFT-CDO-ALLDAYEVENT:FALSE
SUMMARY:Shady Oaks Plants and Produce Holiday Market
DESCRIPTION:Take a step into the holidays. Our market will be adorned with handmade gifts by various local artisans as well as our home baked goodies. This event is sure to get you into the spirit!
X-ALT-DESC;FMTTYPE=text/html:Take a step into the holidays. Our market will be adorned with handmade gifts by various local artisans as well as our home baked goodies. This event is sure to get you into the spirit!
LOCATION:Shady Oaks Plants and Produce 77380 Hwy 99 Cottage Grove\, OR 97424
UID:e.49.31887
SEQUENCE:3
DTSTAMP:20260423T165403Z
URL:https://business.cgchamber.com/events/details/shady-oaks-plants-and-produce-holiday-market-31887
END:VEVENT

END:VCALENDAR
