BEGIN:VCALENDAR
VERSION:2.0
PRODID:-//ChamberMaster//Event Calendar 2.0//EN
METHOD:PUBLISH
X-PUBLISHED-TTL:P3D
REFRESH-INTERVAL:P3D
CALSCALE:GREGORIAN
BEGIN:VEVENT
DTSTART:20171222T040000Z
DTEND:20171221T223000Z
X-MICROSOFT-CDO-ALLDAYEVENT:FALSE
SUMMARY:Seussical
DESCRIPTION:Fun for the whole family\, Seussical is a magical\, musical extravaganza featuring everyone's favorite Dr. Seuss characters\, including The Cat in the Hat and Horton the Elephant.\n\n\n\n12/1/17-12/23/17 Thursday\, Friday\, Saturday performances start at 8:00pm Sunday matinees start at 2:30pm
X-ALT-DESC;FMTTYPE=text/html:Fun for the whole family\, Seussical is a magical\, musical extravaganza featuring everyone&#39\;s favorite Dr. Seuss characters\, including The Cat in the Hat and Horton the Elephant.<br />\n<br />\n12/1/17-12/23/17 Thursday\, Friday\, Saturday performances start at 8:00pm&nbsp\;Sunday matinees start at 2:30pm
LOCATION:Cottage Theatre 700 Village Drive
UID:e.49.21548
SEQUENCE:3
DTSTAMP:20260425T131728Z
URL:https://business.cgchamber.com/events/details/seussical-12-21-2017-21548
END:VEVENT

END:VCALENDAR
