BEGIN:VCALENDAR
VERSION:2.0
PRODID:-//ChamberMaster//Event Calendar 2.0//EN
METHOD:PUBLISH
X-PUBLISHED-TTL:P3D
REFRESH-INTERVAL:P3D
CALSCALE:GREGORIAN
BEGIN:VEVENT
DTSTART:20240125T230000Z
DTEND:20240126T010000Z
X-MICROSOFT-CDO-ALLDAYEVENT:FALSE
SUMMARY:Senior WINTER OLYMPICS
DESCRIPTION:Everyone is invited! Bowling in the lobby\, Corn hole\, beachball badminton Ribbons and trophy's awarded. so much fun for all ages! Lots of amazing food \, and music by Dorian May and the trio!
X-ALT-DESC;FMTTYPE=text/html:Everyone is invited! Bowling in the lobby\, Corn hole\, beachball badminton Ribbons and trophy&#39\;s awarded. so much fun for all ages! Lots of amazing food \, and music by Dorian May and the trio!
LOCATION:Middlefield Oaks
UID:e.49.35359
SEQUENCE:3
DTSTAMP:20260425T112458Z
URL:https://business.cgchamber.com/events/details/senior-winter-olympics-35359
END:VEVENT

END:VCALENDAR
