BEGIN:VCALENDAR
VERSION:2.0
PRODID:-//ChamberMaster//Event Calendar 2.0//EN
METHOD:PUBLISH
X-PUBLISHED-TTL:P3D
REFRESH-INTERVAL:P3D
CALSCALE:GREGORIAN
BEGIN:VEVENT
DTSTART:20180328T000000Z
DTEND:20180328T020000Z
X-MICROSOFT-CDO-ALLDAYEVENT:FALSE
SUMMARY:Science Pub - Slimy Creatures
DESCRIPTION:Slimy Creatures \n\nCoast Fork Science Pub\n\nTuesday March 27th 5-7:00pm\n\nat Axe & Fiddle\, 657 E. Main Street\, Cottage Grove\n\n \n\nOn March 27th\, the Coast Fork Willamette Watershed Council (CFWWC) welcomes Jenny Laxton\, Mt. Pisgah Arboretum Education Manager\, for our March 2018 Science Pub presentation entitled Slimy Creatures. This presentation will explore slugs\, snails\, worms and more! They might be a bit goopy\, sometimes drippy and high on your personal yuck factor scale\, but these underappreciated little critters are more fascinating than you've ever imagined. Break out your inner kid and examine our local slime creators with fresh eyes. Lions\, tigers and bears have nothing on the weird and wacky world of these charismatic critters.   \n\n\n\nThe CFWWC hosts a family-friendly monthly public meeting series called the Coast Fork Science Pub on the fourth Tuesday of each month from 5-7pm at the Axe & Fiddle\, 657 E. Main Street in Cottage Grove. The event begins with informal socializing\, trivia\, and updates about the watershed and watershed council during the first hour. The Science Pub presentation begins at 6pm. CFWWC receives 10% of all sales from the evening between 5-7:30pm. The event is free to the public\, with a $5 donation suggested. For further information\, visit Coast Fork Willamette Watershed Council on Facebook or www.coastfork.org.
X-ALT-DESC;FMTTYPE=text/html:<strong><em><span style="color:#1F497D"><span style="font-size:26.0pt">Slimy Creatures </span></span></em></strong><br />\n<strong><span style="color:#53B848"><span style="font-family:arial\,sans-serif"><span style="font-size:20.0pt">Coast Fork Science Pub</span></span></span></strong><br />\n<strong><span style="color:#53B848"><span style="font-family:arial\,sans-serif"><span style="font-size:20.0pt">Tuesday March 27<sup>th</sup> 5-7:00pm</span></span></span></strong><br />\n<strong><span style="color:#1F497D"><span style="font-size:14.0pt">at Axe &amp\; Fiddle\, 657 E. Main Street\, Cottage Grove</span></span></strong><br />\n&nbsp\;<br />\n<span style="color:#1F497D"><span style="font-size:10.0pt">On March 27<sup>th</sup>\, the Coast Fork Willamette Watershed Council (CFWWC) welcomes Jenny Laxton\, Mt. Pisgah Arboretum Education Manager\, for our March 2018 Science Pub presentation entitled <strong><em>Slimy Creatures</em></strong>.</span></span> <span style="color:#1F497D"><span style="font-size:10.0pt">This presentation will explore slugs\, snails\, worms and more! They might be a bit goopy\, sometimes drippy and high on your personal yuck factor scale\, but these underappreciated little critters are more fascinating than you&rsquo\;ve ever imagined. Break out your inner kid and examine our local slime creators with fresh eyes. Lions\, tigers and bears have nothing on the weird and wacky world of these charismatic critters. &nbsp\;&nbsp\;</span></span><br />\n<br />\n<span style="color:#1F497D"><span style="font-size:10.0pt">The CFWWC hosts a family-friendly monthly public meeting series called the <strong><em>Coast Fork Science Pub</em></strong> on the fourth Tuesday of each month from 5-7pm at the Axe &amp\; Fiddle\, 657 E. Main Street in Cottage Grove. The event begins with informal socializing\, trivia\, and updates about the watershed and watershed council during the first hour. The Science Pub presentation begins at 6pm. CFWWC receives 10% of all sales from the evening between 5-7:30pm. The event is free to the public\, with a $5 donation suggested. For further information\, visit </span></span><a href="https://www.facebook.com/CoastFork/"><span style="font-size:10.0pt">Coast Fork Willamette Watershed Council on Facebook</span></a><span style="color:#1F497D"><span style="font-size:10.0pt"> or </span></span><a href="http://www.coastfork.org/"><span style="font-size:10.0pt">www.coastfork.org</span></a><span style="color:#1F497D"><span style="font-size:10.0pt">.</span></span>
LOCATION:Axe & Fiddle\, 657 E. Main Street\, Cottage Grove
UID:e.49.22353
SEQUENCE:3
DTSTAMP:20260422T164224Z
URL:https://business.cgchamber.com/events/details/science-pub-slimy-creatures-22353
END:VEVENT

END:VCALENDAR
