BEGIN:VCALENDAR
VERSION:2.0
PRODID:-//ChamberMaster//Event Calendar 2.0//EN
METHOD:PUBLISH
X-PUBLISHED-TTL:P3D
REFRESH-INTERVAL:P3D
CALSCALE:GREGORIAN
BEGIN:VEVENT
DTSTART:20171025T000000Z
DTEND:20171025T020000Z
X-MICROSOFT-CDO-ALLDAYEVENT:FALSE
SUMMARY:Science Pub - NEPA & National Forest Projects
DESCRIPTION:The National Environmental Policy Act:\n\nHow and When to Get Involved with\n\nLarge-Scale Projects on Your National Forests \n\nCoast Fork Science Pub\n\nTuesday October 24th 5-7:00pm\n\nat Axe & Fiddle\, 657 E. Main Street\, Cottage Grove\n\n \n\nOn October 24th\, the Coast Fork Willamette Watershed Council welcomes U.S. Forest Service Cottage Grove Ranger District Botanist\, Krista Farris\, and District Ranger\, K.C. Briggs for our October 2017 Science Pub presentation entitled The National Environmental Policy Act (NEPA): How and When to Get Involved with Large-Scale Projects on Your National Forests. This presentation will explain the NEPA process for the US Forest Service from the proposal stage of a project\, to the public comment period and implementation. Ms. Farris and Ms. Briggs will discuss what goes into integrated resource restoration projects (IRR)\, vegetation management focused on sylviculture prescriptions\, recreation\, wildlife and botanical resources\, fisheries and aquatic resources.\n\n\n\nThe Coast Fork Willamette Watershed Council hosts a free monthly public meeting series called the Coast Fork Science Pub on the fourth Tuesday of each month from 5-7pm at the Axe & Fiddle\, 657 E. Main Street in Cottage Grove. The event begins with informal socializing\, trivia\, prizes and updates about the watershed and watershed council during the first hour. Then our Science Pub presentation begins at 6pm. Participants are encouraged to support the Coast Fork Willamette Watershed Council by ordering food & drinks from 5-7:30pm\, as 10% of the sales from evening sales will benefit the Watershed Council. The event is free to the public and all ages are welcome. For further information\, visit Coast Fork Willamette Watershed Council on Facebook and www.coastfork.org
X-ALT-DESC;FMTTYPE=text/html:<strong><em><span style="color:#1F497D"><span style="font-size:26.0pt">The National Environmental Policy Act:<br />\nHow and When to Get Involved with<br />\nLarge-Scale Projects on Your National Forests </span></span></em></strong><br />\n<strong><span style="color:#53B848"><span style="font-family:arial\,sans-serif"><span style="font-size:20.0pt">Coast Fork Science Pub</span></span></span></strong><br />\n<strong><span style="color:#53B848"><span style="font-family:arial\,sans-serif"><span style="font-size:20.0pt">Tuesday October 24<sup>th</sup> 5-7:00pm</span></span></span></strong><br />\n<strong><span style="color:#1F497D"><span style="font-size:14.0pt">at Axe &amp\; Fiddle\, 657 E. Main Street\, Cottage Grove</span></span></strong><br />\n&nbsp\;<br />\n<span style="color:#1F497D"><span style="font-size:10.0pt">On October 24<sup>th</sup>\, the Coast Fork Willamette Watershed Council welcomes U.S. Forest Service Cottage Grove Ranger District Botanist\, Krista Farris\, and District Ranger\, K.C. Briggs for our October 2017 Science Pub presentation entitled <strong><em>The National Environmental Policy Act (NEPA): How and When to Get Involved with Large-Scale Projects on Your National Forests.</em></strong> This presentation will explain the NEPA process for the US Forest Service from the proposal stage of a project\, to the public comment period and implementation. Ms. Farris and Ms. Briggs will discuss what goes into integrated resource restoration projects (IRR)\, vegetation management focused on sylviculture prescriptions\, recreation\, wildlife and botanical resources\, fisheries and aquatic resources.</span></span><br />\n<br />\n<span style="color:#1F497D"><span style="font-size:10.0pt">The Coast Fork Willamette Watershed Council hosts a free monthly public meeting series called the <strong><em>Coast Fork Science Pub</em></strong> on the fourth Tuesday of each month from 5-7pm at the Axe &amp\; Fiddle\, 657 E. Main Street in Cottage Grove. The event begins with informal socializing\, trivia\, prizes and updates about the watershed and watershed council during the first hour. Then our Science Pub presentation begins at 6pm. Participants are encouraged to support the Coast Fork Willamette Watershed Council by ordering food &amp\; drinks from 5-7:30pm\, as 10% of the sales from evening sales will benefit the Watershed Council. The event is free to the public and all ages are welcome. For further information\, visit </span></span><a href="https://www.facebook.com/CoastFork/"><span style="font-size:10.0pt">Coast Fork Willamette Watershed Council on Facebook</span></a><span style="color:#1F497D"><span style="font-size:10.0pt"> and </span></span><a href="http://www.coastfork.org/"><span style="font-size:10.0pt">www.coastfork.org</span></a>
LOCATION:Axe & Fiddle 657 E. Main Street Cttage Grove
UID:e.49.21501
SEQUENCE:3
DTSTAMP:20260424T230311Z
URL:https://business.cgchamber.com/events/details/science-pub-nepa-national-forest-projects-21501
END:VEVENT

END:VCALENDAR
