BEGIN:VCALENDAR
VERSION:2.0
PRODID:-//ChamberMaster//Event Calendar 2.0//EN
METHOD:PUBLISH
X-PUBLISHED-TTL:P3D
REFRESH-INTERVAL:P3D
CALSCALE:GREGORIAN
BEGIN:VEVENT
DTSTART:20180414T170000Z
DTEND:20180414T200000Z
X-MICROSOFT-CDO-ALLDAYEVENT:FALSE
SUMMARY:SCG's Quarterly Gathering
DESCRIPTION:Celebrate the 4th anniversary of cgFEAST   our "local food movement" at Sustainable Cottage Grove's Quarterly Gathering. We'll take a look at our successes in securing our local food system\, plan our future efforts in building community resilience\, and celebrate over a free and locally sourced healthy lunch. Bring a friend!
X-ALT-DESC;FMTTYPE=text/html:Celebrate the 4th anniversary of cgFEAST &mdash\; our &quot\;local food movement&quot\; at Sustainable Cottage Grove&#39\;s Quarterly Gathering. We&#39\;ll take a look at our successes in securing our local food system\, plan our future efforts in building community resilience\, and celebrate over a free and locally sourced healthy lunch. Bring a friend!
LOCATION:Healing Matrix 632 E. Main
UID:e.49.22374
SEQUENCE:3
DTSTAMP:20260424T201653Z
URL:https://business.cgchamber.com/events/details/scg-s-quarterly-gathering-22374
END:VEVENT

END:VCALENDAR
