BEGIN:VCALENDAR
VERSION:2.0
PRODID:-//ChamberMaster//Event Calendar 2.0//EN
METHOD:PUBLISH
X-PUBLISHED-TTL:P3D
REFRESH-INTERVAL:P3D
CALSCALE:GREGORIAN
BEGIN:VEVENT
DTSTART:20260221T020000Z
DTEND:20260221T040000Z
X-MICROSOFT-CDO-ALLDAYEVENT:FALSE
SUMMARY:SBMD - The Bohemia Wooden Token Society | Launch Event
DESCRIPTION:Wooden Nickels are a Bohemia Mining Days tradition in Cottage Grove. They are goodwill tokens tied to our heritage. The Bohemia Wooden Nickel Society offers a fun\, nostalgic\, and meaningful way to help keep the spirit of Bohemia alive all year long. The Annual Bohemia Wooden Nickel Society helps fund SBMD's year-round activities while strengthening the connection between local businesses\, residents\, and our shared legacy. The nickel acts as both a symbol of community pride and a perk token\; members can show it at participating local businesses to receive discounts or "Spirit Specials." Find out how you can become a Founding Member of the Wooden Nickel Society on February 20\, 6-8 pm\, at the CG Public Market. An event flyer is attached. Please pass it on to others!
X-ALT-DESC;FMTTYPE=text/html:Wooden Nickels are a Bohemia Mining Days tradition in Cottage Grove. They are goodwill tokens tied to our heritage. The Bohemia Wooden Nickel Society offers a fun\, nostalgic\, and meaningful way to help keep the spirit of Bohemia alive all year long. The Annual Bohemia Wooden Nickel Society helps fund SBMD&#39\;s year-round activities while strengthening the connection between local businesses\, residents\, and our shared legacy. The nickel acts as both a symbol of community pride and a perk token\; members can show it at participating local businesses to receive discounts or &quot\;Spirit Specials.&quot\; Find out how you can become a Founding Member of the Wooden Nickel Society on February 20\, 6-8 pm\, at the CG Public Market. An event flyer is attached. Please pass it on to others!
LOCATION:Cottage Grove Public Market 926 E. Main Street Cottage Grove\, OR 97424
UID:e.49.36491
SEQUENCE:3
DTSTAMP:20260424T034917Z
URL:https://business.cgchamber.com/events/details/sbmd-the-bohemia-wooden-token-society-launch-event-36491
END:VEVENT

END:VCALENDAR
