BEGIN:VCALENDAR
VERSION:2.0
PRODID:-//ChamberMaster//Event Calendar 2.0//EN
METHOD:PUBLISH
X-PUBLISHED-TTL:P3D
REFRESH-INTERVAL:P3D
CALSCALE:GREGORIAN
BEGIN:VEVENT
DTSTART;VALUE=DATE:20180708
DTEND;VALUE=DATE:20180709
TRANSP:TRANSPARENT
X-MICROSOFT-CDO-ALLDAYEVENT:TRUE
SUMMARY:Resilient Forestry Tour
DESCRIPTION:Join us for a beautiful walk among the diverse woods of a sustainably-managed forest! We will be looking into the healthy ecosystem created through sustainable forest management and how this strategy can be used to sequester carbon and sustain healthy air and water in the face of climate change. David Eisler\, owner of Shady Creek Forest\, will lead us on a guided tour through stands of resilient woods. Oregon forests are at serious risk from increases in disease\, drought\, and wildfires due to climate change. You will hear Eisler's perspective on forest resiliency based on his experience managing for long term health along with financial yield. Register at beyondtoxics.org no later than July 6th at noon. This is a family friendly event\; please no dogs. People who register will meet at Lane County Historical Museum at noon to carpool. More details will be emailed once registered.
X-ALT-DESC;FMTTYPE=text/html:Join us for a beautiful walk among the diverse woods of a sustainably-managed forest! We will be looking into the healthy ecosystem created through sustainable forest management and how this strategy can be used to sequester carbon and sustain healthy air and water in the face of climate change. David Eisler\, owner of Shady Creek Forest\, will lead us on a guided tour through stands of resilient woods. Oregon forests are at serious risk from increases in disease\, drought\, and wildfires due to climate change. You will hear Eisler&rsquo\;s perspective on forest resiliency based on his experience managing for long term health along with financial yield. Register at beyondtoxics.org no later than July 6th at noon. This is a family friendly event\; please no dogs. People who register will meet at Lane County Historical Museum at noon to carpool. More details will be emailed once registered.
LOCATION:Shady Creek Forest
UID:e.49.24135
SEQUENCE:3
DTSTAMP:20260423T233303Z
URL:https://business.cgchamber.com/events/details/resilient-forestry-tour-24135
END:VEVENT

END:VCALENDAR
