BEGIN:VCALENDAR
VERSION:2.0
PRODID:-//ChamberMaster//Event Calendar 2.0//EN
METHOD:PUBLISH
X-PUBLISHED-TTL:P3D
REFRESH-INTERVAL:P3D
CALSCALE:GREGORIAN
BEGIN:VEVENT
DTSTART:20260407T160000Z
DTEND:20260407T190000Z
X-MICROSOFT-CDO-ALLDAYEVENT:FALSE
SUMMARY:Resident Advocate Training
DESCRIPTION:Become a voice for your neighbors living in long-term care facilities! The Oregon Long-Term Care Ombudsman is seeking volunteers in Lane County. Take our 5-day training course to become certified to investigate and resolve complaints\, improve the quality of life\, and preserve dignity for older adults in skilled nursing and assisted living facilities. Four hours per week of volunteer time requested.
X-ALT-DESC;FMTTYPE=text/html:Become a voice for your neighbors living in long-term care facilities! The Oregon Long-Term Care Ombudsman is seeking volunteers in Lane County. Take our 5-day training course to become certified to investigate and resolve complaints\, improve the quality of life\, and preserve dignity for older adults in skilled nursing and assisted living facilities. Four hours per week of volunteer time requested.
LOCATION:Willamalane Adult Activity Center
UID:e.49.36525
SEQUENCE:3
DTSTAMP:20260424T023624Z
URL:https://business.cgchamber.com/events/details/resident-advocate-training-36525
END:VEVENT

END:VCALENDAR
