BEGIN:VCALENDAR
VERSION:2.0
PRODID:-//ChamberMaster//Event Calendar 2.0//EN
METHOD:PUBLISH
X-PUBLISHED-TTL:P3D
REFRESH-INTERVAL:P3D
CALSCALE:GREGORIAN
BEGIN:VEVENT
DTSTART;VALUE=DATE:20180516
DTEND;VALUE=DATE:20180517
TRANSP:TRANSPARENT
X-MICROSOFT-CDO-ALLDAYEVENT:TRUE
SUMMARY:Press Release Writing Workshop
DESCRIPTION:FREE "PRESS RELEASE WRITING" WORKSHOP Anyone involved in a non-profit group\, community organization or local club who wants to learn the ins and outs of writing press releases (and who doesn't!) should attend this free workshop. As a small newspaper with limited staff\, press releases are an important tool in assuring information about your organization and event notices get out to the community.
X-ALT-DESC;FMTTYPE=text/html:FREE &quot\;PRESS RELEASE WRITING&quot\; WORKSHOP Anyone involved in a non-profit group\, community organization or local club who wants to learn the ins and outs of writing press releases (and who doesn&rsquo\;t!) should attend this free workshop. As a small newspaper with limited staff\, press releases are an important tool in assuring information about your organization and event notices get out to the community.
LOCATION:Community Center 700 E. Gibbs Ave.
UID:e.49.23266
SEQUENCE:3
DTSTAMP:20260421T141349Z
URL:https://business.cgchamber.com/events/details/press-release-writing-workshop-23266
END:VEVENT

END:VCALENDAR
