BEGIN:VCALENDAR
VERSION:2.0
PRODID:-//ChamberMaster//Event Calendar 2.0//EN
METHOD:PUBLISH
X-PUBLISHED-TTL:P3D
REFRESH-INTERVAL:P3D
CALSCALE:GREGORIAN
BEGIN:VEVENT
DTSTART:20180204T040000Z
DTEND:20180204T060000Z
X-MICROSOFT-CDO-ALLDAYEVENT:FALSE
SUMMARY:Noises Off
DESCRIPTION:Called "the funniest farce ever written" by the New York Post\, this play-within-a-play presents a touring theatre troupe's production of a farce called Nothing On\, as seen from both the audience and backstage. Thursday\, Friday\, Saturday performances start at 8:00pm Sunday matinees start at 2:30pm
X-ALT-DESC;FMTTYPE=text/html:Called &ldquo\;the funniest farce ever written&rdquo\; by the New York Post\, this play-within-a-play presents a touring theatre troupe&rsquo\;s production of a farce called Nothing On\, as seen from both the audience and backstage. Thursday\, Friday\, Saturday performances start at 8:00pm Sunday matinees start at 2:30pm
LOCATION:Cottage Theatre 700 Village Drive Cottage Grove\, OR 97424
UID:e.49.21555
SEQUENCE:3
DTSTAMP:20260424T082503Z
URL:https://business.cgchamber.com/events/details/noises-off-02-03-2018-21555
END:VEVENT

END:VCALENDAR
