BEGIN:VCALENDAR
VERSION:2.0
PRODID:-//ChamberMaster//Event Calendar 2.0//EN
METHOD:PUBLISH
X-PUBLISHED-TTL:P3D
REFRESH-INTERVAL:P3D
CALSCALE:GREGORIAN
BEGIN:VEVENT
DTSTART:20260111T033000Z
DTEND:20260111T053000Z
X-MICROSOFT-CDO-ALLDAYEVENT:FALSE
SUMMARY:Nicholas Fennel of The HuCKLE BEARErS
DESCRIPTION:Nicholas Fennel is a Bluesfolk-Americana artist based in Bend\, Oregon\, whose original music combines rich Americana influences with a distinctive style. From leading Wisconsin's Dead Dogs to performing with Colorado's the HuCKLE BEARErS\, Nicholas has built a reputation for dynamic live shows and collaboration. Now offering solo acoustic performances\, his sets blend acclaimed originals with favorites from artists like Tom Waits and Hank Williams\, reflecting his passion for connecting with audiences nationwide.
X-ALT-DESC;FMTTYPE=text/html:Nicholas Fennel is a Bluesfolk-Americana artist based in Bend\, Oregon\, whose original music combines rich Americana influences with a distinctive style. From leading Wisconsin&rsquo\;s Dead Dogs to performing with Colorado&rsquo\;s the HuCKLE BEARErS\, Nicholas has built a reputation for dynamic live shows and collaboration. Now offering solo acoustic performances\, his sets blend acclaimed originals with favorites from artists like Tom Waits and Hank Williams\, reflecting his passion for connecting with audiences nationwide.
LOCATION:The Axe and Fiddle 657 E Main St Cottage Grove\, OR 97424
UID:e.49.36407
SEQUENCE:3
DTSTAMP:20260424T063249Z
URL:https://business.cgchamber.com/events/details/nicholas-fennel-of-the-huckle-bearers-36407
END:VEVENT

END:VCALENDAR
