BEGIN:VCALENDAR
VERSION:2.0
PRODID:-//ChamberMaster//Event Calendar 2.0//EN
METHOD:PUBLISH
X-PUBLISHED-TTL:P3D
REFRESH-INTERVAL:P3D
CALSCALE:GREGORIAN
BEGIN:VEVENT
DTSTART:20171027T230000Z
DTEND:20171030T000000Z
X-MICROSOFT-CDO-ALLDAYEVENT:FALSE
SUMMARY:Model Railroad Show
DESCRIPTION:For the second year the Willamette Cascade Model Railroad Club\, Cottage Grove Area Chamber of Commerce and City of Cottage Grove are bringing the largest model railroad show in Lane County to the Cottage Grove Armory. Come check out the trains on: Friday\, October 27th from 4:00 to 8:00 Saturday\, October 28th from 10:00 am to 5:00 pm Sunday\, October 29th from 10:00 am to 5:00 pm. Admission is Free - Great Family Fun for kids of all ages.
X-ALT-DESC;FMTTYPE=text/html:For the second year the Willamette Cascade Model Railroad Club\, Cottage Grove Area Chamber of Commerce and City of Cottage Grove are bringing the largest model railroad show in Lane County to the Cottage Grove Armory. Come check out the trains on: Friday\, October 27th from 4:00 to 8:00 Saturday\, October 28th from 10:00 am to 5:00 pm Sunday\, October 29th from 10:00 am to 5:00 pm. Admission is Free - Great Family Fun for kids of all ages.
LOCATION:Cottage Grove Armory - 628 East Washington
UID:e.49.21500
SEQUENCE:3
DTSTAMP:20260424T230421Z
URL:https://business.cgchamber.com/events/details/model-railroad-show-21500
END:VEVENT

END:VCALENDAR
