BEGIN:VCALENDAR
VERSION:2.0
PRODID:-//ChamberMaster//Event Calendar 2.0//EN
METHOD:PUBLISH
X-PUBLISHED-TTL:P3D
REFRESH-INTERVAL:P3D
CALSCALE:GREGORIAN
BEGIN:VEVENT
DTSTART:20180407T180000Z
DTEND:20180407T220000Z
X-MICROSOFT-CDO-ALLDAYEVENT:FALSE
SUMMARY:Meet My Farmer
DESCRIPTION:Meet our local growers at this expanded farmers' market. Pet baby farm animals\, sample fresh foods\, dance to live music\, share in children's crafts projects. Celebrate the new growing season and fresh local food at Sustainable Cottage Grove's Meet My Farmer!
X-ALT-DESC;FMTTYPE=text/html:Meet our local growers at this expanded farmers&#39\; market. Pet baby farm animals\, sample fresh foods\, dance to live music\, share in children&#39\;s crafts projects. Celebrate the new growing season and fresh local food at Sustainable Cottage Grove&#39\;s Meet My Farmer!
LOCATION:7th and Main Streets\, Opal Park
UID:e.49.22373
SEQUENCE:3
DTSTAMP:20260422T050811Z
URL:https://business.cgchamber.com/events/details/meet-my-farmer-22373
END:VEVENT

END:VCALENDAR
