BEGIN:VCALENDAR
VERSION:2.0
PRODID:-//ChamberMaster//Event Calendar 2.0//EN
METHOD:PUBLISH
X-PUBLISHED-TTL:P3D
REFRESH-INTERVAL:P3D
CALSCALE:GREGORIAN
BEGIN:VEVENT
DTSTART:20180321T003000Z
DTEND:20180321T023000Z
X-MICROSOFT-CDO-ALLDAYEVENT:FALSE
SUMMARY:Master Recycler Workshop
DESCRIPTION:Presentation will cover: -Introduction to the Master Recycler Program curriculum\, online manual\, volunteering\, proposed Cottage Grove class in Jan. of 2020 with Kelly Bell -Household hazardous waste collection facility and rural collection with Don Strunk -Illegal dumping and nuisance abatement with Dan Wood -Current state of Recycling and waste prevention programs with Sarah Grimm Register online at: Lanecc.edu/cottagegrove\, or by phone at: (541)463-4202 Brought to you by the Lane County Waste management Division and the Master Recycler Program
X-ALT-DESC;FMTTYPE=text/html:Presentation will cover: -Introduction to the Master Recycler Program curriculum\, online manual\, volunteering\, proposed Cottage Grove class in Jan. of 2020 with Kelly Bell -Household hazardous waste collection facility and rural collection with Don Strunk -Illegal dumping and nuisance abatement with Dan Wood -Current state of Recycling and waste prevention programs with Sarah Grimm Register online at: Lanecc.edu/cottagegrove\, or by phone at: (541)463-4202 Brought to you by the Lane County Waste management Division and the Master Recycler Program
LOCATION:Lane Community College- Cottage Grove 1275 S. River Rd. Cottage Grove\, Or. 97424
UID:e.49.22348
SEQUENCE:3
DTSTAMP:20260424T005548Z
URL:https://business.cgchamber.com/events/details/master-recycler-workshop-22348
END:VEVENT

END:VCALENDAR
