BEGIN:VCALENDAR
VERSION:2.0
PRODID:-//ChamberMaster//Event Calendar 2.0//EN
METHOD:PUBLISH
X-PUBLISHED-TTL:P3D
REFRESH-INTERVAL:P3D
CALSCALE:GREGORIAN
BEGIN:VEVENT
DTSTART:20260311T000000Z
DTEND:20260311T020000Z
X-MICROSOFT-CDO-ALLDAYEVENT:FALSE
SUMMARY:March History Pub
DESCRIPTION:Spirit of BMD Executive Director\, Matthew Hewlett\, will share the exciting and colorful history of the Bohemia Mining District. This halcyon era not only shaped to current town we reside in but reverberates today through the 70 some odd year tradition of "Bohemia Days" that blossoms the 3rd weekend of July each year. This month's Pub is sponsored by Partner in History = Spirit of BMD. As usual History Pubs feature great fun and fellowship\, an informative talk\, Trivia\, 50/50 Raffle\, and Prizes! Always a good "olde" time!
X-ALT-DESC;FMTTYPE=text/html:Spirit of BMD Executive Director\, Matthew Hewlett\, will share the exciting and colorful history of the Bohemia Mining District. This halcyon era not only shaped to current town we reside in but reverberates today through the 70 some odd year tradition of &quot\;Bohemia Days&quot\; that blossoms the 3rd weekend of July each year. This month&#39\;s Pub is sponsored by Partner in History = Spirit of BMD. As usual History Pubs feature great fun and fellowship\, an informative talk\, Trivia\, 50/50 Raffle\, and Prizes! Always a good &quot\;olde&quot\; time!
LOCATION:Axe and Fiddle\, 657 E. Main Street
UID:e.49.36523
SEQUENCE:3
DTSTAMP:20260424T024901Z
URL:https://business.cgchamber.com/events/details/march-history-pub-03-10-2026-36523
END:VEVENT

END:VCALENDAR
