BEGIN:VCALENDAR
VERSION:2.0
PRODID:-//ChamberMaster//Event Calendar 2.0//EN
METHOD:PUBLISH
X-PUBLISHED-TTL:P3D
REFRESH-INTERVAL:P3D
CALSCALE:GREGORIAN
BEGIN:VEVENT
DTSTART:20251206T170000Z
DTEND:20251206T180000Z
X-MICROSOFT-CDO-ALLDAYEVENT:FALSE
SUMMARY:Jingle Rush 5K
DESCRIPTION:Kick off the Holiday Season with Run CG Run and enjoy the Jingle Rush 5k Run/Walk. Proceeds support CG Tree of Joy and CGHS Key Club.
X-ALT-DESC;FMTTYPE=text/html:Kick off the Holiday Season with Run CG Run and enjoy the Jingle Rush 5k Run/Walk. Proceeds support CG Tree of Joy and CGHS Key Club.
LOCATION:CG High School Track
UID:e.49.36349
SEQUENCE:3
DTSTAMP:20260424T075954Z
URL:https://business.cgchamber.com/events/details/jingle-rush-5k-36349
END:VEVENT

END:VCALENDAR
