BEGIN:VCALENDAR
VERSION:2.0
PRODID:-//ChamberMaster//Event Calendar 2.0//EN
METHOD:PUBLISH
X-PUBLISHED-TTL:P3D
REFRESH-INTERVAL:P3D
CALSCALE:GREGORIAN
BEGIN:VEVENT
DTSTART;VALUE=DATE:20171007
DTEND;VALUE=DATE:20171008
TRANSP:TRANSPARENT
X-MICROSOFT-CDO-ALLDAYEVENT:TRUE
SUMMARY:Jekyll & Hyde
DESCRIPTION:Jekyll & Hyde\, a thrilling pop rock musical based on the classic novella by Robert Louis Stevenson\, explores that fine line between good and evil existing in us all.
X-ALT-DESC;FMTTYPE=text/html:<em><span style="font-family:calibri\,sans-serif"><span style="font-size:12.0pt">Jekyll &amp\; Hyde</span></span></em><span style="font-family:calibri\,sans-serif"><span style="font-size:12.0pt">\, a thrilling pop rock musical based on the classic novella by Robert Louis Stevenson\, explores that fine line between good and evil existing in us all.</span></span>
LOCATION:Cottage Theatre 700 Village Drive Cottage Grove\, OR 97424
UID:e.49.20605
SEQUENCE:3
DTSTAMP:20260424T230518Z
URL:https://business.cgchamber.com/events/details/jekyll-hyde-10-07-2017-20605
END:VEVENT

END:VCALENDAR
