BEGIN:VCALENDAR
VERSION:2.0
PRODID:-//ChamberMaster//Event Calendar 2.0//EN
METHOD:PUBLISH
X-PUBLISHED-TTL:P3D
REFRESH-INTERVAL:P3D
CALSCALE:GREGORIAN
BEGIN:VEVENT
DTSTART:20171103T160000Z
DTEND:20171105T000000Z
X-MICROSOFT-CDO-ALLDAYEVENT:FALSE
SUMMARY:Holiday Open House
DESCRIPTION:Please Join us for our Annual Holiday Open House! Get into the Holiday Spirit and jump start your Christmas Shopping! Enjoy Cider & Cookies\, Mystery Discounts\, & and free gift!
X-ALT-DESC;FMTTYPE=text/html:Please Join us for our Annual Holiday Open House! Get into the Holiday Spirit and jump start your Christmas Shopping! Enjoy Cider &amp\; Cookies\, Mystery Discounts\, &amp\; and free gift!
LOCATION:The Flower Basket & Gift Boutique 119 S 6th Street Cottage Grove\, OR 97424
UID:e.49.21563
SEQUENCE:3
DTSTAMP:20260425T143300Z
URL:https://business.cgchamber.com/events/details/holiday-open-house-21563
END:VEVENT

END:VCALENDAR
