BEGIN:VCALENDAR
VERSION:2.0
PRODID:-//ChamberMaster//Event Calendar 2.0//EN
METHOD:PUBLISH
X-PUBLISHED-TTL:P3D
REFRESH-INTERVAL:P3D
CALSCALE:GREGORIAN
BEGIN:VEVENT
DTSTART:20251112T010000Z
DTEND:20251210T030000Z
X-MICROSOFT-CDO-ALLDAYEVENT:FALSE
SUMMARY:History Pub
DESCRIPTION:History Pubs take place at the Axe and Fiddle in downtown Cottage Grove on the 2nd Tuesday of the month at 5:00 pm. Learn about local history while enjoying great food and beverages! The History Pub is sponsored by Cottage Grove Partners in History and the Axe and Fiddle. Oregon Aviation Pioneers and How They Changed Aviation Forever Presenter: Tim Talen\, Cottage Grove Aviation Historical Society & Museum https://cggenealogy.org/events/history-pub-fall-2025/
X-ALT-DESC;FMTTYPE=text/html:History Pubs take place at the Axe and Fiddle in downtown Cottage Grove on the 2nd Tuesday of the month at 5:00 pm. Learn about local history while enjoying great food and beverages! The History Pub is sponsored by Cottage Grove Partners in History and the Axe and Fiddle. Oregon Aviation Pioneers and How They Changed Aviation Forever Presenter: Tim Talen\, Cottage Grove Aviation Historical Society &amp\; Museum https://cggenealogy.org/events/history-pub-fall-2025/
LOCATION:The Axe and Fiddle 657 East Main St Cottage Grove\, OR 97424
UID:e.49.36226
SEQUENCE:3
DTSTAMP:20260424T080122Z
URL:https://business.cgchamber.com/events/details/history-pub-11-11-2025-36226
END:VEVENT

END:VCALENDAR
