BEGIN:VCALENDAR
VERSION:2.0
PRODID:-//ChamberMaster//Event Calendar 2.0//EN
METHOD:PUBLISH
X-PUBLISHED-TTL:P3D
REFRESH-INTERVAL:P3D
CALSCALE:GREGORIAN
BEGIN:VEVENT
DTSTART:20180420T233000Z
DTEND:20180421T020000Z
X-MICROSOFT-CDO-ALLDAYEVENT:FALSE
SUMMARY:Harrison Elementary Reunion and Celebration
DESCRIPTION:The "Old" Harrison Elementary Building will close in June\, at the end of the current school year. To celebrate it's history\, before moving to it's new location at 10th and Taylor next fall\, we will take time for a final tour/farewell. Open house and sharing memories and of course\, popcorn. A brief celebration program will happen at 6 PM.
X-ALT-DESC;FMTTYPE=text/html:The &quot\;Old&quot\; Harrison Elementary Building will close in June\, at the end of the current school year. To celebrate it&#39\;s history\, before moving to it&#39\;s new location at 10th and Taylor next fall\, we will take time for a final tour/farewell. Open house and sharing memories and of course\, popcorn. A brief celebration program will happen at 6 PM.
LOCATION:Harrison Elementary 1000 S. 10th Street Cottage Grove
UID:e.49.22354
SEQUENCE:3
DTSTAMP:20260422T090115Z
URL:https://business.cgchamber.com/events/details/harrison-elementary-reunion-and-celebration-22354
END:VEVENT

END:VCALENDAR
