BEGIN:VCALENDAR
VERSION:2.0
PRODID:-//ChamberMaster//Event Calendar 2.0//EN
METHOD:PUBLISH
X-PUBLISHED-TTL:P3D
REFRESH-INTERVAL:P3D
CALSCALE:GREGORIAN
BEGIN:VEVENT
DTSTART:20180217T160000Z
DTEND:20180217T190000Z
X-MICROSOFT-CDO-ALLDAYEVENT:FALSE
SUMMARY:Great Backyard Bird Count
DESCRIPTION:Great Backyard Bird Count \n\nSaturday\, February 17th 8-11am\n\nRow River Nature Park\, 33301 Row River Road\, Cottage Grove\n\n \n\nJoin the Coast Fork Birders at Row River Nature Park on Saturday\, February 17th at 8am for the Audubon Great Backyard Bird Count. Led by Barbara Butzer of the Coast Fork Birders\, participants will search for a variety of species\, count numbers of individuals\, identify gender and breeding status in a nation-wide effort to create a real-time snapshot of bird populations. Results of this citizen science effort will be submitted to the Cornell Lab of Ornithology and the National Audubon Society. This bird walk is open to participants of all birding abilities. The terrain is flat at Row River Nature Park and the walk will be on both paved and unpaved surfaces. Be sure to bring weather appropriate clothing and footwear\, binoculars\, bird identification book\, and your own snacks and water. Park by the former BMX track at the east end of the large parking lot on Row River Road and meet at the entry kiosk by the weigh station. Please contact the Coast Fork Willamette Watershed Council (CFWWC) office (541) 767-9717 or email maggie@coastfork.org with questions or to RSVP. More information can be found online at www.coastfork.org and on the CFWWC Facebook. Photo credit: birdcount.org
X-ALT-DESC;FMTTYPE=text/html:<strong><span style="color:#53B848"><span style="font-family:arial\,sans-serif"><span style="font-size:26.0pt">Great Backyard Bird Count </span></span></span></strong><br />\n<strong><span style="color:#1F497D"><span style="font-size:24.0pt">Saturday\, February 17<sup>th</sup> 8-11am</span></span></strong><br />\n<strong><span style="color:#1F497D"><span style="font-size:14.0pt">Row River Nature Park\, 33301 Row River Road\, Cottage Grove</span></span></strong><br />\n&nbsp\;<br />\n<span style="color:#1F497D"><span style="font-size:12.0pt">Join the Coast Fork Birders at Row River Nature Park on Saturday\, February 17th at 8am for the Audubon Great Backyard Bird Count. Led by Barbara Butzer of the Coast Fork Birders\, participants will search for a variety of species\, count numbers of individuals\, identify gender and breeding status in a nation-wide effort to create a real-time snapshot of bird populations. Results of this citizen science effort will be submitted to the Cornell Lab of Ornithology and the National Audubon Society. This bird walk is open to participants of all birding abilities. The terrain is flat at Row River Nature Park and the walk will be on both paved and unpaved surfaces. Be sure to bring weather appropriate clothing and footwear\, binoculars\, bird identification book\, and your own snacks and water. Park by the former BMX track at the east end of the large parking lot on Row River Road and meet at the entry kiosk by the weigh station. Please contact the Coast Fork Willamette Watershed Council (CFWWC) office (541) 767-9717 or email maggie@coastfork.org with questions or to RSVP. More information can be found online at <a href="https://www.coastfork.org/">www.coastfork.org</a> and on the <a href="https://www.facebook.com/CoastFork/">CFWWC</a><a href="https://www.facebook.com/CoastFork/"> Facebook</a>. Photo credit: birdcount.org</span></span>
LOCATION:Row River Nature Park\, 33301 Row River Road\, Cottage Grove
UID:e.49.21742
SEQUENCE:3
DTSTAMP:20260424T193639Z
URL:https://business.cgchamber.com/events/details/great-backyard-bird-count-21742
END:VEVENT

END:VCALENDAR
