BEGIN:VCALENDAR
VERSION:2.0
PRODID:-//ChamberMaster//Event Calendar 2.0//EN
METHOD:PUBLISH
X-PUBLISHED-TTL:P3D
REFRESH-INTERVAL:P3D
CALSCALE:GREGORIAN
BEGIN:VEVENT
DTSTART:20180414T023000Z
DTEND:20180414T043000Z
X-MICROSOFT-CDO-ALLDAYEVENT:FALSE
SUMMARY:Good People
DESCRIPTION:Margie Walsh and her friends are barely hanging on\, faced with the reality that Southie\, a Boston neighborhood they were born in\, and never left\, is providing them the same level of opportunity it always has: none. Laid off from her job at the Dollar Store and with no prospects and a possible eviction\, Margie looks up an old fling who's made it out of Southie to see whether he might be the break she?s been looking for. Instead\, she finds herself in the burbs\, out of her element and facing questions of her past and her present. Nominated for a 2011 Tony Award for Best Play\, Good People\, by Pulitzer Prize-winner David Lindsay-Abaire\, explores with affection and humor the struggles and unshakable hopes of the have-nots in America.?\n\n\n\nDirector Eliza Roaring Springs
X-ALT-DESC;FMTTYPE=text/html:<span style="color:rgb(75\, 79\, 86)\; font-family:helvetica\,arial\,sans-serif\; font-size:14px">Margie Walsh and her friends are barely hanging on\, faced with the reality that Southie\, a Boston neighborhood they were born in\, and never left\, is providing them the same level of opportunity it always has: none. Laid off from her job at the Dollar Store and with no prospects and a possible eviction\, Margie looks up an old fling who&#39\;s made it out of Southie to see whether he might be the break she?s been looking for. Instead\, she finds herself in the burbs\, out of her element and facing questions of her past and her present. Nominated for a 2011 Tony Award for Best Play\, Good People\, by Pulitzer Prize-winner David Lindsay-Abaire\, explores with affection and humor the struggles and unshakable hopes of the have-nots in America.?</span><br />\n<br />\n<span style="color:rgb(75\, 79\, 86)\; font-family:helvetica\,arial\,sans-serif\; font-size:14px">Director Eliza Roaring Springs</span>
LOCATION:Opal Center 513 E Main Street.
UID:e.49.22366
SEQUENCE:3
DTSTAMP:20260422T025519Z
URL:https://business.cgchamber.com/events/details/good-people-04-13-2018-22366
END:VEVENT

END:VCALENDAR
