BEGIN:VCALENDAR
VERSION:2.0
PRODID:-//ChamberMaster//Event Calendar 2.0//EN
METHOD:PUBLISH
X-PUBLISHED-TTL:P3D
REFRESH-INTERVAL:P3D
CALSCALE:GREGORIAN
BEGIN:VEVENT
DTSTART;VALUE=DATE:20251231
DTEND;VALUE=DATE:20260101
TRANSP:TRANSPARENT
X-MICROSOFT-CDO-ALLDAYEVENT:TRUE
SUMMARY:Gamesquall!
DESCRIPTION:Gamesquall is an annual board\, card\, miniature\, and roleplaying game convention held in beautiful downtown Cottage Grove\, Oregon -- it's a sort of "poor man's" version of Portland's Gamestorm convention. In our case\, of course\, we're using "convention" in its loosest possible sense. There's no scheduling system\, no hotel rooms\, no pool\, no celebrities\, no dealer's room\, and no gift bags... but there's plenty of free parking and admission is only zero dollars\, so we figure that helps make up for it. If you'd like to attend\, just show up at the Odd Fellows Lodge in Cottage Grove just about any time between noon on December 31st and two in the morning on January 1st. You can play games from the extensive Gamesquall library\, or you can bring your own games to share with the group (the more the merrier!). Or both! You can find all the details at www.gamesquall.com -- hope to see you there!
X-ALT-DESC;FMTTYPE=text/html:Gamesquall is an annual board\, card\, miniature\, and roleplaying game convention held in beautiful downtown Cottage Grove\, Oregon -- it&#39\;s a sort of &quot\;poor man&#39\;s&quot\; version of Portland&#39\;s Gamestorm convention. In our case\, of course\, we&#39\;re using &quot\;convention&quot\; in its loosest possible sense. There&#39\;s no scheduling system\, no hotel rooms\, no pool\, no celebrities\, no dealer&#39\;s room\, and no gift bags... but there&#39\;s plenty of free parking and admission is only zero dollars\, so we figure that helps make up for it. If you&#39\;d like to attend\, just show up at the Odd Fellows Lodge in Cottage Grove just about any time between noon on December 31st and two in the morning on January 1st. You can play games from the extensive Gamesquall library\, or you can bring your own games to share with the group (the more the merrier!). Or both! You can find all the details at www.gamesquall.com -- hope to see you there!
LOCATION:Odd Fellows Lodge\, 317 E. Main Street\, Cottage Grove (directly above KNND and Books on Main).
UID:e.49.17569
SEQUENCE:3
DTSTAMP:20260424T093057Z
URL:https://business.cgchamber.com/events/details/gamesquall-12-31-2025-17569
END:VEVENT

END:VCALENDAR
