BEGIN:VCALENDAR
VERSION:2.0
PRODID:-//ChamberMaster//Event Calendar 2.0//EN
METHOD:PUBLISH
X-PUBLISHED-TTL:P3D
REFRESH-INTERVAL:P3D
CALSCALE:GREGORIAN
BEGIN:VEVENT
DTSTART:20251213T033000Z
DTEND:20251213T060000Z
X-MICROSOFT-CDO-ALLDAYEVENT:FALSE
SUMMARY:Forest Mountain Lion
DESCRIPTION:Forest Mountain Lion $5.00 Cover 7:30pm Forest Mountain Lion is a Eugene\, Oregon-based musician creating lyric-driven "animist folk rock" that brings together themes of love\, the invulnerable human spirit\, and resistance to exploitative industrial systems. Forest is accompanied by Jacob Sellars on bass\, Courtney Renea on harmony vocals\, Cory Lopez on drums\, and Kyler Mello on lead guitar. The new album Love and Other Acts of Subversion was hailed as "an indie-folk-rock gem" by Illustrate Magazine\, and is now available on all streaming platforms. Live video   "Songlines": https://youtu.be/V4KvDh31rHY Live video   "I'll Meet You There": https://youtu.be/CzsZvis-XEM?si=haZk3lSYLGgNlabS&t=34 https://www.forestmountainlion.com/about
X-ALT-DESC;FMTTYPE=text/html:Forest Mountain Lion $5.00 Cover 7:30pm Forest Mountain Lion is a Eugene\, Oregon-based musician creating lyric-driven &quot\;animist folk rock&quot\; that brings together themes of love\, the invulnerable human spirit\, and resistance to exploitative industrial systems. Forest is accompanied by Jacob Sellars on bass\, Courtney Renea on harmony vocals\, Cory Lopez on drums\, and Kyler Mello on lead guitar. The new album Love and Other Acts of Subversion was hailed as &quot\;an indie-folk-rock gem&quot\; by Illustrate Magazine\, and is now available on all streaming platforms. Live video &ndash\; &quot\;Songlines&quot\;: https://youtu.be/V4KvDh31rHY Live video &ndash\; &quot\;I&#39\;ll Meet You There&quot\;: https://youtu.be/CzsZvis-XEM?si=haZk3lSYLGgNlabS&amp\;t=34 https://www.forestmountainlion.com/about
LOCATION:The Axe and Fiddle 657 East Main St Cottage Grove\, OR 97424
UID:e.49.36237
SEQUENCE:3
DTSTAMP:20260424T080049Z
URL:https://business.cgchamber.com/events/details/forest-mountain-lion-36237
END:VEVENT

END:VCALENDAR
