BEGIN:VCALENDAR
VERSION:2.0
PRODID:-//ChamberMaster//Event Calendar 2.0//EN
METHOD:PUBLISH
X-PUBLISHED-TTL:P3D
REFRESH-INTERVAL:P3D
CALSCALE:GREGORIAN
BEGIN:VEVENT
DTSTART:20180225T150000Z
DTEND:20180225T190000Z
X-MICROSOFT-CDO-ALLDAYEVENT:FALSE
SUMMARY:Firefight Breakfast
DESCRIPTION:Stairclimb Firefighter Breakfast Sunday February 25th at the CG Fire Station. All monies raised goes to The Leukemia and Lymphoma Society.
X-ALT-DESC;FMTTYPE=text/html:<a href="https://chambermaster.blob.core.windows.net/userfiles/UserFiles/chambers/49/File/2018Firefighterbreakfast.pdf">Stairclimb Firefighter Breakfast</a> Sunday February 25th at the CG Fire Station. All monies raised goes to The Leukemia and Lymphoma Society.
LOCATION:233 E. Harrison Ave. Cottage Grove
UID:e.49.21952
SEQUENCE:3
DTSTAMP:20260424T074040Z
URL:https://business.cgchamber.com/events/details/firefight-breakfast-21952
END:VEVENT

END:VCALENDAR
