BEGIN:VCALENDAR
VERSION:2.0
PRODID:-//ChamberMaster//Event Calendar 2.0//EN
METHOD:PUBLISH
X-PUBLISHED-TTL:P3D
REFRESH-INTERVAL:P3D
CALSCALE:GREGORIAN
BEGIN:VEVENT
DTSTART:20171119T010000Z
DTEND:20171119T060000Z
X-MICROSOFT-CDO-ALLDAYEVENT:FALSE
SUMMARY:FALL Fundraiser Feast
DESCRIPTION:5 - Course meal Silent Auction and Raffle Featuring food and products from over 40 local Farmers\, Producers and Shops. Support Aprovecho Sustainability Campus because our mission is to inspire equitable solutions for a sustainable future.
X-ALT-DESC;FMTTYPE=text/html:5 - Course meal Silent Auction and Raffle Featuring food and products from over 40 local Farmers\, Producers and Shops. Support Aprovecho Sustainability Campus because our mission is to inspire equitable solutions for a sustainable future.
LOCATION:80574 Hazleton Rd Cottage Grove\, OR
UID:e.49.21592
SEQUENCE:3
DTSTAMP:20260424T233240Z
URL:https://business.cgchamber.com/events/details/fall-fundraiser-feast-21592
END:VEVENT

END:VCALENDAR
