BEGIN:VCALENDAR
VERSION:2.0
PRODID:-//ChamberMaster//Event Calendar 2.0//EN
METHOD:PUBLISH
X-PUBLISHED-TTL:P3D
REFRESH-INTERVAL:P3D
CALSCALE:GREGORIAN
BEGIN:VEVENT
DTSTART:20171014T160000Z
DTEND:20171014T180000Z
X-MICROSOFT-CDO-ALLDAYEVENT:FALSE
SUMMARY:Fall Birding for Beginners
DESCRIPTION:Join the Coast Fork Birders at Row River Nature Park on Saturday\, October 14th at 9am for an introductory bird walk. Alison Center will lead the group in looking for fall migrants\, such as ducks and songbirds. This bird walk is open to participants of all birding abilities\, but will be focused on introducing birding to beginner bird watchers. The terrain is flat at Row River Nature Park and the walk will be on both paved and unpaved surfaces. Be sure to bring weather appropriate clothing and footwear\, binoculars and bird identification book if you have them (we have some spares in case you don't)\, and your own snacks and water. Park by the former BMX track at the east end of the large parking lot on Row River Rd. (east of the weigh station). RSVP to the Coast Fork Office (541) 767-9717 or email maggie@coastfork.org. More information about the Coast Fork Willamette Watershed Council can be found online at www.coastfork.org and on Facebook
X-ALT-DESC;FMTTYPE=text/html:<span style="color:#1F497D"><span style="font-size:12.0pt">Join the Coast Fork Birders at Row River Nature Park on Saturday\, October 14th at 9am for an introductory bird walk. Alison Center will lead the group in looking for fall migrants\, such as ducks and songbirds. This bird walk is open to participants of all birding abilities\, but will be focused on introducing birding to beginner bird watchers. The terrain is flat at Row River Nature Park and the walk will be on both paved and unpaved surfaces. Be sure to bring weather appropriate clothing and footwear\, binoculars and bird identification book if you have them (we have some spares in case you don&#39\;t)\, and your own snacks and water. Park by the former BMX track at the east end of the large parking lot on Row River Rd. (east of the weigh station). RSVP to the Coast Fork Office (541) 767-9717 or email </span></span><a href="mailto:maggie@coastfork.org"><span style="font-size:12.0pt">maggie@coastfork.org</span></a><span style="color:#1F497D"><span style="font-size:12.0pt">. More information about the Coast Fork Willamette Watershed Council can be found online at </span></span><a href="http://www.coastfork.org/"><span style="font-size:12.0pt">www.coastfork.org</span></a><span style="color:#1F497D"><span style="font-size:12.0pt"> and on </span></span><a href="https://www.facebook.com/CoastFork/"><span style="font-size:12.0pt">Facebook</span></a>
LOCATION:Row River Nature Park\, 33301 Row River Road\, Cottage Grove
UID:e.49.21498
SEQUENCE:3
DTSTAMP:20260424T230252Z
URL:https://business.cgchamber.com/events/details/fall-birding-for-beginners-21498
END:VEVENT

END:VCALENDAR
