BEGIN:VCALENDAR
VERSION:2.0
PRODID:-//ChamberMaster//Event Calendar 2.0//EN
METHOD:PUBLISH
X-PUBLISHED-TTL:P3D
REFRESH-INTERVAL:P3D
CALSCALE:GREGORIAN
BEGIN:VEVENT
DTSTART:20251210T010000Z
DTEND:20251210T030000Z
X-MICROSOFT-CDO-ALLDAYEVENT:FALSE
SUMMARY:December History Pub
DESCRIPTION:Oregon had a big part of Aviation History in the USA. Before the FAA was established\, Oregon was licensing pilots and registering planes\, often homebuilts\, made in folks barns and garages. Tim Talen from the Oregon Aviation Historical Society Museum will be sharing some of this pioneer efforts that still reverberate in today's avaiton climate. As usual History Pubs feature great fun and fellowship\, an informative talk\, Trivia\, 50/50 Raffle\, and Prizes! Always a good "olde" time!
X-ALT-DESC;FMTTYPE=text/html:Oregon had a big part of Aviation History in the USA. Before the FAA was established\, Oregon was licensing pilots and registering planes\, often homebuilts\, made in folks barns and garages. Tim Talen from the Oregon Aviation Historical Society Museum will be sharing some of this pioneer efforts that still reverberate in today&#39\;s avaiton climate. As usual History Pubs feature great fun and fellowship\, an informative talk\, Trivia\, 50/50 Raffle\, and Prizes! Always a good &quot\;olde&quot\; time!
LOCATION:Axe and Fiddle\, 657 E Main Steet
UID:e.49.36345
SEQUENCE:3
DTSTAMP:20260424T080309Z
URL:https://business.cgchamber.com/events/details/december-history-pub-12-09-2025-36345
END:VEVENT

END:VCALENDAR
