BEGIN:VCALENDAR
VERSION:2.0
PRODID:-//ChamberMaster//Event Calendar 2.0//EN
METHOD:PUBLISH
X-PUBLISHED-TTL:P3D
REFRESH-INTERVAL:P3D
CALSCALE:GREGORIAN
BEGIN:VEVENT
DTSTART:20171104T153000Z
DTEND:20171104T220000Z
X-MICROSOFT-CDO-ALLDAYEVENT:FALSE
SUMMARY:Dairy Goat Field Day
DESCRIPTION:Do you want to know more about dairy goats? Five speakers covering topics ranging from goat nutrition\, conformation\, livestock guardian dogs and cheese making. Come see the goats. Learn what makes one goat better than another. Lane County 4H will have breakfast and lunch available for purchase. Also of interest\, a goat themed raffle! Event sponsored by the Emerald Dairy Goat Association.
X-ALT-DESC;FMTTYPE=text/html:Do you want to know more about dairy goats? Five speakers covering topics ranging from goat nutrition\, conformation\, livestock guardian dogs and cheese making. Come see the goats. Learn what makes one goat better than another. Lane County 4H will have breakfast and lunch available for purchase. Also of interest\, a goat themed raffle! Event sponsored by the Emerald Dairy Goat Association.
LOCATION:WOE Fairgrounds 2000 N Douglas St Cottage Grove\, OR 97424
UID:e.49.21502
SEQUENCE:3
DTSTAMP:20260424T210827Z
URL:https://business.cgchamber.com/events/details/dairy-goat-field-day-21502
END:VEVENT

END:VCALENDAR
