BEGIN:VCALENDAR
VERSION:2.0
PRODID:-//ChamberMaster//Event Calendar 2.0//EN
METHOD:PUBLISH
X-PUBLISHED-TTL:P3D
REFRESH-INTERVAL:P3D
CALSCALE:GREGORIAN
BEGIN:VEVENT
DTSTART:20171202T190000Z
DTEND:20171203T040000Z
X-MICROSOFT-CDO-ALLDAYEVENT:FALSE
SUMMARY:Crafty Open House
DESCRIPTION:When: Saturday \, December 2\, 11-8PM Where: The Crafty Mercantile 517 East Main Street Cottage Grove\, Oregon 97424 541-514-0704 Join us for a day of local music\, local rug artist Peggy Severns and abstract painter Rebecca Panella and yummy treats.
X-ALT-DESC;FMTTYPE=text/html:When: Saturday \, December 2\, 11-8PM Where: The Crafty Mercantile 517 East Main Street Cottage Grove\, Oregon 97424 541-514-0704 Join us for a day of local music\, local rug artist Peggy Severns and abstract painter Rebecca Panella and yummy treats.
LOCATION:The Crafty Mercantile 517 East Main Street
UID:e.49.21652
SEQUENCE:3
DTSTAMP:20260424T172449Z
URL:https://business.cgchamber.com/events/details/crafty-open-house-21652
END:VEVENT

END:VCALENDAR
