BEGIN:VCALENDAR
VERSION:2.0
PRODID:-//ChamberMaster//Event Calendar 2.0//EN
METHOD:PUBLISH
X-PUBLISHED-TTL:P3D
REFRESH-INTERVAL:P3D
CALSCALE:GREGORIAN
BEGIN:VEVENT
DTSTART:20180218T010000Z
DTEND:20180218T050000Z
X-MICROSOFT-CDO-ALLDAYEVENT:FALSE
SUMMARY:CRAB FEED EXTRAVAGANZA
DESCRIPTION:The 9th Annual Crab Feed Extravaganza to benefit Habitat for Humanity of Central Lane. Great Food and Great Fun Live Music by Almost Home No host beer and wine by Ninkasi\, Noble Estate Vineyards and Chateau Lorane
X-ALT-DESC;FMTTYPE=text/html:The 9th Annual Crab Feed Extravaganza to benefit Habitat for Humanity of Central Lane. Great Food and Great Fun Live Music by Almost Home No host beer and wine by Ninkasi\, Noble Estate Vineyards and Chateau Lorane
LOCATION:Cottage Grove Armory 628 E Washington Cottage Grove
UID:e.49.21743
SEQUENCE:3
DTSTAMP:20260424T173910Z
URL:https://business.cgchamber.com/events/details/crab-feed-extravaganza-21743
END:VEVENT

END:VCALENDAR
