BEGIN:VCALENDAR
VERSION:2.0
PRODID:-//ChamberMaster//Event Calendar 2.0//EN
METHOD:PUBLISH
X-PUBLISHED-TTL:P3D
REFRESH-INTERVAL:P3D
CALSCALE:GREGORIAN
BEGIN:VEVENT
DTSTART:20251214T033000Z
DTEND:20251214T060000Z
X-MICROSOFT-CDO-ALLDAYEVENT:FALSE
SUMMARY:Corwin Bolt and The Wingnuts
DESCRIPTION:12/13 Corwin Bolt and The Wingnuts 7:30 PM $5.00 Cover charge
X-ALT-DESC;FMTTYPE=text/html:12/13 Corwin Bolt and The Wingnuts 7:30 PM $5.00 Cover charge
LOCATION:The Axe and Fiddle 657 East Main St Cottage Grove\, OR 97424
UID:e.49.36238
SEQUENCE:3
DTSTAMP:20260424T080020Z
URL:https://business.cgchamber.com/events/details/corwin-bolt-and-the-wingnuts-36238
END:VEVENT

END:VCALENDAR
