BEGIN:VCALENDAR
VERSION:2.0
PRODID:-//ChamberMaster//Event Calendar 2.0//EN
METHOD:PUBLISH
X-PUBLISHED-TTL:P3D
REFRESH-INTERVAL:P3D
CALSCALE:GREGORIAN
BEGIN:VEVENT
DTSTART;VALUE=DATE:20260430
DTEND;VALUE=DATE:20260501
TRANSP:TRANSPARENT
X-MICROSOFT-CDO-ALLDAYEVENT:TRUE
SUMMARY:Coast Fork Pint Night with CASA
DESCRIPTION:Come on down and have a pint for a cause! Coast Fork Brewing is hosting a Pint Night fundraiser for CASA of Lane County. $1 from every pint (ALL DAY!) will go to CASA\, where we train community volunteers to advocate for the needs and best interests of children in foster care. We are always looking for more caring volunteers\, so stop by our info table from 5-7 to meet us and get some information.
X-ALT-DESC;FMTTYPE=text/html:Come on down and have a pint for a cause! Coast Fork Brewing is hosting a Pint Night fundraiser for CASA of Lane County. $1 from every pint (ALL DAY!) will go to CASA\, where we train community volunteers to advocate for the needs and best interests of children in foster care. We are always looking for more caring volunteers\, so stop by our info table from 5-7 to meet us and get some information.
LOCATION:106 S 6th St\, Cottage Grove\, OR 97424
UID:e.49.36573
SEQUENCE:3
DTSTAMP:20260424T225840Z
URL:https://business.cgchamber.com/events/details/coast-fork-pint-night-with-casa-36573
END:VEVENT

END:VCALENDAR
