BEGIN:VCALENDAR
VERSION:2.0
PRODID:-//ChamberMaster//Event Calendar 2.0//EN
METHOD:PUBLISH
X-PUBLISHED-TTL:P3D
REFRESH-INTERVAL:P3D
CALSCALE:GREGORIAN
BEGIN:VEVENT
DTSTART:20251213T190000Z
DTEND:20251214T000000Z
X-MICROSOFT-CDO-ALLDAYEVENT:FALSE
SUMMARY:Christmas Market at the Cottage Grove Public Market
DESCRIPTION:Christmas Markets at the Cottage Grove Public Market December 6th\, 13th and 20th Food\, beverages\, gifts & sweets Guest vendors 11-4 PM Public Market open 8-8 PM
X-ALT-DESC;FMTTYPE=text/html:Christmas Markets at the Cottage Grove Public Market December 6th\, 13th and 20th Food\, beverages\, gifts &amp\; sweets Guest vendors 11-4 PM Public Market open 8-8 PM
LOCATION:926 E Main St\, Cottage Grove
UID:e.49.36351
SEQUENCE:3
DTSTAMP:20260424T093944Z
URL:https://business.cgchamber.com/events/details/christmas-market-at-the-cottage-grove-public-market-12-13-2025-36351
END:VEVENT

END:VCALENDAR
