BEGIN:VCALENDAR
VERSION:2.0
PRODID:-//ChamberMaster//Event Calendar 2.0//EN
METHOD:PUBLISH
X-PUBLISHED-TTL:P3D
REFRESH-INTERVAL:P3D
CALSCALE:GREGORIAN
BEGIN:VEVENT
DTSTART;VALUE=DATE:20270116
DTEND;VALUE=DATE:20270117
TRANSP:TRANSPARENT
X-MICROSOFT-CDO-ALLDAYEVENT:TRUE
SUMMARY:Chamber Awards & Installation Banquet
DESCRIPTION:The Cottage Grove Area Chamber of Commerce 68th Annual Awards & Installation Banquet - A Red Carpet Event"\n\n\n\nThe Chamber Banquet is a special time to recognize individuals and businesses who truly stand out through their volunteerism and excellent business practices in our community.  Business of the Year\, Non Profit of the Year\, and First Citizen are among the many awards presented.  It is also an opportunity to recognize student excellence with  the Jr. First Citizen Scholarship Award along with special recognition of others.  We invite you to put on your fine attire and walk the "Red Carpet" at the Cottage Grove Armory for an evening of great food and fun times with friends! \n\n\n\nSocial Hour No Host Bar 5:00 PM\n\nBuffet Dinner & Program 6:00PM\n\n \n\nPresenting Sponsor: $2000\n\nPremier table seating for 16\n\nLogo on event program\n\nTable sign\n\nAd on power point presentation\n\nSignage at the entrance\n\nPlacement of any printed material on the tables\n\n \n\nOscar Sponsor: $1200  \n\nPremier table seating for 8\n\nListing in event program\n\nTable Sign\n\nPresented as Scholarship Supporter\n\n \n\nRed Carpet Sponsor: $500  \n\nReserved seating for 8\n\nListing in event program\n\nTable Sign\n\n \n\nStar Sponsor: $250  \n\nReserved seating for 4\n\nListing in event program\n\nTable Sign\n\n\n\nIndividual Reservation: $50
X-ALT-DESC;FMTTYPE=text/html:<div>\n<p class="MsoNormal" style="margin: 0in 0in 0pt\; text-align: left\;">The Cottage Grove Area Chamber of Commerce 68th Annual Awards &amp\; Installation Banquet - A Red Carpet Event&quot\;<br />\n<br />\nThe Chamber Banquet is a special time to recognize individuals and businesses who truly stand out through their volunteerism and excellent business practices in our community. &nbsp\;<em>Business of the Year</em>\,&nbsp\;<em>Non Profit of the Year</em>\, and&nbsp\;<em>First Citizen </em>are among the many awards presented. &nbsp\;It is also an opportunity to recognize student excellence with &nbsp\;the Jr. First Citizen Scholarship Award along with special recognition of others. &nbsp\;We invite you to p<span style="line-height: 20.7999992370605px\;">ut on your fine attire and walk the &quot\;Red Carpet&quot\;&nbsp\;at the Cottage Grove Armory&nbsp\;for an evening of great food and fun times with friends!&nbsp\;</span><br />\n<br />\nSocial Hour No Host Bar 5:00 PM<br />\nBuffet Dinner &amp\; Program 6:00PM<br />\n&#8203\;<br />\n<strong><span style="font-family:albertus mt\;">Presenting Sponsor: $2000</span></strong><br />\nPremier table seating for 16<br />\nLogo on event program<br />\nTable sign<br />\nAd on power point presentation<br />\nSignage at the entrance<br />\nPlacement of any printed material on the tables<br />\n&nbsp\;<br />\n<strong><span style="font-family:albertus mt\;">Oscar Sponsor: $1200&nbsp\; </span></strong><br />\nPremier table seating for 8<br />\nListing in event program<br />\nTable Sign<br />\nPresented as Scholarship Supporter<br />\n&nbsp\;<br />\n<strong><span style="font-family:albertus mt\;">Red Carpet Sponsor: $500&nbsp\; </span></strong><br />\nReserved seating for 8<br />\nListing in event program<br />\nTable Sign<br />\n&nbsp\;<br />\n<strong><span style="font-family:albertus mt\;">Star Sponsor: $250 &nbsp\;</span></strong><br />\n<span style="font-family:albertus mt\;">Reserved seating for 4</span><br />\n<span style="font-family:albertus mt\;">Listing in event program</span><br />\n<span style="font-family:albertus mt\;">Table Sign</span><br />\n<br />\n<strong><span style="background-image:initial\;background-position:initial\;background-size:initial\;background-repeat:initial\;background-attachment:initial\;background-origin:initial\;background-clip:initial\;"><span style="font-family:albertus mt\,serif\;">Individual Reservation: $50 &nbsp\;</span></span></strong></p>\n\n<p class="MsoNormal" style="margin: 0in 0in 0pt\; text-align: left\;">&nbsp\;</p>\n</div>\n
LOCATION:Cottage Grove Armory 628 E. Washington Cottage Grove\, OR 97424
UID:e.49.20659
SEQUENCE:3
DTSTAMP:20260425T040618Z
URL:https://business.cgchamber.com/events/details/chamber-awards-installation-banquet-01-16-2027-20659
END:VEVENT

END:VCALENDAR
