BEGIN:VCALENDAR
VERSION:2.0
PRODID:-//ChamberMaster//Event Calendar 2.0//EN
METHOD:PUBLISH
X-PUBLISHED-TTL:P3D
REFRESH-INTERVAL:P3D
CALSCALE:GREGORIAN
BEGIN:VEVENT
DTSTART:20180217T063000Z
DTEND:20180217T073000Z
X-MICROSOFT-CDO-ALLDAYEVENT:FALSE
SUMMARY:Cascade Raptor Center Presentation
DESCRIPTION:Magnolia Gardens is pleased to host a presentation by The Cascade Raptor Center on 2/16/18 in the lobby.    A bird handler will be bringing a bird and will be educating us on bird habitat and their mission.  This event is open to the public and we encourage you to attend and see these beautiful birds.
X-ALT-DESC;FMTTYPE=text/html:Magnolia Gardens is pleased to host a presentation by The Cascade Raptor Center on 2/16/18 in the lobby.&nbsp\; &nbsp\; A bird handler will be bringing a bird and will be educating us on bird habitat and their mission.&nbsp\;&nbsp\;This event is open to the public and we encourage you to attend and see these beautiful birds.
LOCATION:Magnolia Gardens Assisted Living 1425 Daugherty Avenue Cottage Grove\, OR 97424
UID:e.49.21946
SEQUENCE:3
DTSTAMP:20260424T120826Z
URL:https://business.cgchamber.com/events/details/cascade-raptor-center-presentation-21946
END:VEVENT

END:VCALENDAR
