BEGIN:VCALENDAR
VERSION:2.0
PRODID:-//ChamberMaster//Event Calendar 2.0//EN
METHOD:PUBLISH
X-PUBLISHED-TTL:P3D
REFRESH-INTERVAL:P3D
CALSCALE:GREGORIAN
BEGIN:VEVENT
DTSTART:20180622T003000Z
DTEND:20180622T043000Z
X-MICROSOFT-CDO-ALLDAYEVENT:FALSE
SUMMARY:Bee Jazzy
DESCRIPTION:Make this Summer Solstice memorable with a glass of superb wine and the sultry voice of Halie Loren. Beyond Toxics is celebrating National Pollinator Week at the 5th annual Bee Jazzy\, a benefit to Save Oregon's Bees co-hosted by Mountain Rose Herbs and GloryBee. This gala evening takes place Thursday\, June 21 5:30pm to 9:30 pm at the lovely Silvan Ridge Winery in the wine country of southern Lane County. Proceeds from the evening benefit Beyond Toxics and our Save Oregon's Bees Campaign. Internationally acclaimed pop/jazz chanteuse Halie Loren will be taking a detour from her "From The Wild Sky" world tour to headline Bee Jazzy once again. The evening opens with music by the Dana McWayne Quartet. Come join us to listen to great jazz music at one of the Willamette Valley's most picturesque wineries. We'll have a fun silent auction with packages that include getaways to some of Oregon's hidden gems and date night excursions to the opera or the theater. Two of Eugene's favorite food carts\, Navarro's Latin Creole Kitchen and Sammitch Food Cart and Trucks\, will be on hand with a selection of delicious food. Tickets are $25 in advance and $30 at the door. Visit beejazzy.org for tickets and full details.
X-ALT-DESC;FMTTYPE=text/html:Make this Summer Solstice memorable with a glass of superb wine and the sultry voice of Halie Loren. Beyond Toxics is celebrating National Pollinator Week at the 5th annual Bee Jazzy\, a benefit to Save Oregon&#39\;s Bees co-hosted by Mountain Rose Herbs and GloryBee. This gala evening takes place Thursday\, June 21 5:30pm to 9:30 pm at the lovely Silvan Ridge Winery in the wine country of southern Lane County. Proceeds from the evening benefit Beyond Toxics and our Save Oregon&#39\;s Bees Campaign. Internationally acclaimed pop/jazz chanteuse Halie Loren will be taking a detour from her &ldquo\;From The Wild Sky&rdquo\; world tour to headline Bee Jazzy once again. The evening opens with music by the Dana McWayne Quartet. Come join us to listen to great jazz music at one of the Willamette Valley&rsquo\;s most picturesque wineries. We&rsquo\;ll have a fun silent auction with packages that include getaways to some of Oregon&rsquo\;s hidden gems and date night excursions to the opera or the theater. Two of Eugene&rsquo\;s favorite food carts\, Navarro&rsquo\;s Latin Creole Kitchen and Sammitch Food Cart and Trucks\, will be on hand with a selection of delicious food. Tickets are $25 in advance and $30 at the door. Visit beejazzy.org for tickets and full details.
LOCATION:Silvan Ridge Winery 27012 Briggs Hill Rd Eugene\, OR 97405
UID:e.49.23283
SEQUENCE:3
DTSTAMP:20260421T073554Z
URL:https://business.cgchamber.com/events/details/bee-jazzy-23283
END:VEVENT

END:VCALENDAR
